BEGIN:VCALENDAR
VERSION:2.0
PRODID:-//CBW Africa - ECPv6.15.20//NONSGML v1.0//EN
CALSCALE:GREGORIAN
METHOD:PUBLISH
X-WR-CALNAME:CBW Africa
X-ORIGINAL-URL:https://www.cbwafrica.org
X-WR-CALDESC:Events for CBW Africa
REFRESH-INTERVAL;VALUE=DURATION:PT1H
X-Robots-Tag:noindex
X-PUBLISHED-TTL:PT1H
BEGIN:VTIMEZONE
TZID:Europe/Moscow
BEGIN:STANDARD
TZOFFSETFROM:+0300
TZOFFSETTO:+0300
TZNAME:MSK
DTSTART:20240101T000000
END:STANDARD
END:VTIMEZONE
BEGIN:VEVENT
DTSTART;VALUE=DATE:20250308
DTEND;VALUE=DATE:20250312
DTSTAMP:20260419T130833
CREATED:20250321T130250Z
LAST-MODIFIED:20250321T130250Z
UID:20651-1741392000-1741737599@www.cbwafrica.org
SUMMARY:CBW-Africa Summit 2025
DESCRIPTION:MARK YOUR CALENDARS! Africa’s biggest business summit event is here!! \nFrom March 8–11\, 2025\, Lagos will take center stage for the #CBWAfricaSummit2025\, where innovators and industry leaders will gather to explore business trends and shape the future of sustainable entrepreneurship in Africa. \n Venue: Lagos Oriental Hotel\, 3 Lekki Road\, Victoria Island\, Lagos\, Nigeria. \nVisit www.summit.cbwafrica.com for more details and to register.  This is an event you won’t want to miss! \nWe look forward to seeing you there!
URL:https://www.cbwafrica.org/event/cbw-africa-summit-2025/
LOCATION:Lagos Oriental Hotel\, Lekki\, 3 Lekki - Epe Expy\, Victoria Island\, Lagos\, Lagos\, 106104\, Nigeria
CATEGORIES:Event
ATTACH;FMTTYPE=image/jpeg:https://www.cbwafrica.org/wp-content/uploads/2025/03/something-big-is-coming.jpg
END:VEVENT
END:VCALENDAR